BEGIN:VCALENDAR
PRODID:-//Microsoft Corporation//Outlook MIMEDIR//EN
VERSION:2.0
METHOD:PUBLISH
BEGIN:VEVENT
DTSTART:20260420T123000
DTEND:20260420T133000
DESCRIPTION:The committee will be meeting only to discuss the proposed amendments for Ordinance 1380-2025. See meeting notice for additional details.
LOCATION:Mercedes Cotner Committee Room 217
SUMMARY:Safety Committee
CATEGORIES:MEETING
END:VEVENT
END:VCALENDAR
