BEGIN:VCALENDAR
PRODID:-//Microsoft Corporation//Outlook MIMEDIR//EN
VERSION:2.0
METHOD:PUBLISH
BEGIN:VEVENT
DTSTART:20260420T093000
DTEND:20260420T103000
DESCRIPTION:ADDENDUM - In addition of hearing legislation, the committee will hear presentation update on the Leopardo Energy Public Improvements to police district buildings & the City"s grass cutting program. The meeting will be live broadcast. See meeting notice.
LOCATION:Mercedes Cotner Committee Room 217
SUMMARY:Municipal Services and Properties Committee
CATEGORIES:MEETING
END:VEVENT
END:VCALENDAR
