BEGIN:VCALENDAR
PRODID:-//Microsoft Corporation//Outlook MIMEDIR//EN
VERSION:2.0
METHOD:PUBLISH
BEGIN:VEVENT
DTSTART:20260422T100000
DTEND:20260422T110000
DESCRIPTION:Public Safety Dept. will be providing an update on authorization to renew the SoundThinking/ShotSpotter contract. They will also provide an update on the implementation of the nuisance law. The meeting will be live broadcast. See meeting notice for detail
LOCATION:Mercedes Cotner Committee Room 217
SUMMARY:Safety Committee
CATEGORIES:MEETING
END:VEVENT
END:VCALENDAR
